BEGIN:VCALENDAR
VERSION:2.0
PRODID:-//Divers Alert Network - ECPv6.15.20//NONSGML v1.0//EN
CALSCALE:GREGORIAN
METHOD:PUBLISH
X-WR-CALNAME:Divers Alert Network
X-ORIGINAL-URL:https://dan.org
X-WR-CALDESC:Events for Divers Alert Network
REFRESH-INTERVAL;VALUE=DURATION:PT1H
X-Robots-Tag:noindex
X-PUBLISHED-TTL:PT1H
BEGIN:VTIMEZONE
TZID:America/New_York
BEGIN:DAYLIGHT
TZOFFSETFROM:-0500
TZOFFSETTO:-0400
TZNAME:EDT
DTSTART:20230312T070000
END:DAYLIGHT
BEGIN:STANDARD
TZOFFSETFROM:-0400
TZOFFSETTO:-0500
TZNAME:EST
DTSTART:20231105T060000
END:STANDARD
BEGIN:DAYLIGHT
TZOFFSETFROM:-0500
TZOFFSETTO:-0400
TZNAME:EDT
DTSTART:20240310T070000
END:DAYLIGHT
BEGIN:STANDARD
TZOFFSETFROM:-0400
TZOFFSETTO:-0500
TZNAME:EST
DTSTART:20241103T060000
END:STANDARD
BEGIN:DAYLIGHT
TZOFFSETFROM:-0500
TZOFFSETTO:-0400
TZNAME:EDT
DTSTART:20250309T070000
END:DAYLIGHT
BEGIN:STANDARD
TZOFFSETFROM:-0400
TZOFFSETTO:-0500
TZNAME:EST
DTSTART:20251102T060000
END:STANDARD
END:VTIMEZONE
BEGIN:VEVENT
DTSTART;VALUE=DATE:20241017
DTEND;VALUE=DATE:20241021
DTSTAMP:20260424T000909
CREATED:20240705T190558Z
LAST-MODIFIED:20240705T190745Z
UID:10000029-1729123200-1729468799@dan.org
SUMMARY:2024 Reef Fest
DESCRIPTION:All are invited to celebrate ocean conservation during REEF Fest on Oct. 17-20\, 2024\, in Key Largo\, Fla. Hosted by Reef Environmental Education Foundation\, this annual event features educational ocean seminars\, social gatherings\, diving\, snorkeling\, kayaking\, and a nature tour. Most events\, including the seminars\, are free and open to the public\, although online pre-registration is requested. Please visit www.REEF.org/REEFfest for complete details and registration. \n \nOcean Seminars\nFree educational seminars will be held on Friday\, Oct. 18\, and Saturday\, Oct. 19 at the Murray Nelson Government Center in Key Largo. Guest speakers include scientists\, underwater photographers\, and more. This year’s seminar speaker lineup includes: \n\n“Fisheries Science with a SMILE: Citizen Scientists contribute to marine conservation one photo at a time!” presented by Dr. Alli Candelmo\, REEF Director of Conservation Science\n“Upside-down Jellyfish As Bioindicators” presented by Natalia López Figueroa\, Ph.D. Candidate\, University of South Florida College of Marine Science\n“Key Largo… The New Normal” presented by Stephen Frink\, Underwater Photographer and Publisher of Alert Diver Magazine\n“The Reef Fishes of Gainesville\, Florida: How the Florida Museum Fish Collection informs our understanding of reef fish communities” presented by Rob Robins\, Ichthyology Collection Manager at the Florida Museum of Natural History\n“Diving With a Purpose: Restoring Coral Reef Ecosystems and Documenting Maritime History” presented by Kramer Wimberley\, Founder\, Diving with a Purpose-Collective Approach to Restoring our Ecosystems (DWP-CARES)\n\nFor full talk summaries and speaker bios\, visit www.REEF.org/REEFfest/seminars. \nSocial Events\nOpen House Welcome Gathering\nThursday\, Oct. 17 | 4:30-6:30 p.m. \nLocation: REEF Campus (98300 Overseas Hwy. Key Largo\, FL 33037) \nREEF Fest Happy Hour Social\nFriday\, Oct. 18 | 5:00-6:00 p.m.\, followed by evening seminar presentation from 6:00-7:00 p.m. \nLocation: Murray Nelson Government Center (102050 Overseas Hwy. Key Largo\, FL 33037) \nFor the Love of the Sea Celebration\nSaturday\, Oct. 19 | 5:00-8:30 p.m. \nLocation: 103674 Overseas Hwy. Key Largo\, FL 33037\, an outdoor waterfront venue located next to Quiescence Diving Services on Key Largo’s Blackwater Sound. \nThe Open House and Happy Hour Social are free and open to the public\, but registration is requested. For the Love of the Sea is a ticketed event. Tickets may be purchased during REEF Fest registration. Discounted tickets are available for $95 per person until September 27\, and then increase to $105 per person. \nFor additional details on social events\, www.REEF.org/REEFfest/social. \nEco-Excursions and Conservation Activities\nDiscover the amazing marine life of the Florida Keys by diving\, snorkeling\, or kayaking. Eco-excursions are offered on the mornings of Thursday\, Oct. 17\, Friday\, Oct. 18 and/or Saturday\, Oct. 19 with REEF partners. Find more information on excursions at www.REEF.org/REEFfest/diving. \nAfter a weekend celebrating REEF’s marine conservation work\, attendees can see firsthand how organizations in the Florida Keys are working to protect local flora and fauna. On Sunday\, Oct. 20\, start your day with a guided walking tour of a local trail at John Pennekamp Coral Reef State Park led by a volunteer naturalist. Please see www.REEF.org/REEFfest/conservation for more conservation activities.
URL:https://dan.org/event/reef-fest-2/
LOCATION:Reef Environmental Education Foundation\, Key Largo\, FL\, United States
ATTACH;FMTTYPE=image/png:https://dan.org/wp-content/uploads/2024/05/Key-Largo-iStock-639152630-1200x600-1.png
END:VEVENT
END:VCALENDAR