BEGIN:VCALENDAR
VERSION:2.0
PRODID:-//Divers Alert Network - ECPv6.15.20//NONSGML v1.0//EN
CALSCALE:GREGORIAN
METHOD:PUBLISH
X-ORIGINAL-URL:https://dan.org
X-WR-CALDESC:Events for Divers Alert Network
REFRESH-INTERVAL;VALUE=DURATION:PT1H
X-Robots-Tag:noindex
X-PUBLISHED-TTL:PT1H
BEGIN:VTIMEZONE
TZID:America/New_York
BEGIN:DAYLIGHT
TZOFFSETFROM:-0500
TZOFFSETTO:-0400
TZNAME:EDT
DTSTART:20230312T070000
END:DAYLIGHT
BEGIN:STANDARD
TZOFFSETFROM:-0400
TZOFFSETTO:-0500
TZNAME:EST
DTSTART:20231105T060000
END:STANDARD
BEGIN:DAYLIGHT
TZOFFSETFROM:-0500
TZOFFSETTO:-0400
TZNAME:EDT
DTSTART:20240310T070000
END:DAYLIGHT
BEGIN:STANDARD
TZOFFSETFROM:-0400
TZOFFSETTO:-0500
TZNAME:EST
DTSTART:20241103T060000
END:STANDARD
BEGIN:DAYLIGHT
TZOFFSETFROM:-0500
TZOFFSETTO:-0400
TZNAME:EDT
DTSTART:20250309T070000
END:DAYLIGHT
BEGIN:STANDARD
TZOFFSETFROM:-0400
TZOFFSETTO:-0500
TZNAME:EST
DTSTART:20251102T060000
END:STANDARD
END:VTIMEZONE
BEGIN:VTIMEZONE
TZID:America/Los_Angeles
BEGIN:DAYLIGHT
TZOFFSETFROM:-0800
TZOFFSETTO:-0700
TZNAME:PDT
DTSTART:20230312T100000
END:DAYLIGHT
BEGIN:STANDARD
TZOFFSETFROM:-0700
TZOFFSETTO:-0800
TZNAME:PST
DTSTART:20231105T090000
END:STANDARD
BEGIN:DAYLIGHT
TZOFFSETFROM:-0800
TZOFFSETTO:-0700
TZNAME:PDT
DTSTART:20240310T100000
END:DAYLIGHT
BEGIN:STANDARD
TZOFFSETFROM:-0700
TZOFFSETTO:-0800
TZNAME:PST
DTSTART:20241103T090000
END:STANDARD
BEGIN:DAYLIGHT
TZOFFSETFROM:-0800
TZOFFSETTO:-0700
TZNAME:PDT
DTSTART:20250309T100000
END:DAYLIGHT
BEGIN:STANDARD
TZOFFSETFROM:-0700
TZOFFSETTO:-0800
TZNAME:PST
DTSTART:20251102T090000
END:STANDARD
END:VTIMEZONE
BEGIN:VEVENT
DTSTART;VALUE=DATE:20241119
DTEND;VALUE=DATE:20241123
DTSTAMP:20260423T223905
CREATED:20240627T205600Z
LAST-MODIFIED:20260414T133427Z
UID:10000031-1731974400-1732319999@dan.org
SUMMARY:2024 DEMA Show
DESCRIPTION:DAN IS HERE FOR YOU \n\n\n\nSince 1980\, DAN has worked tirelessly to promote dive safety — operating the 24/7 DAN Emergency Hotline\, conducting dive medical research\, and collaborating with stakeholders throughout the industry to establish best practices for safe operations. Today\, thanks to the support of divers\, training agencies\, dive pros\, and dive businesses\, DAN is stronger than ever. \n\n\n\nDAN will exhibit at booth #3036 during DEMA Show 2024. Held in Las Vegas from November 19–22\, this year’s event will bring together professionals from the dive\, travel\, and water sports industries. Recognized as the largest trade-only event in the dive industry\, DEMA anticipates hosting over 500 exhibitors and thousands of professionals. \n\n\n\n To learn more and register to attend\, visit DEMAShow.com. To discuss DAN’s programs one-on-one with a representative\, reserve a meeting through our meeting registration form. \n\n\n\n \n\n\n\n\n\n \n\n\n\nSeminar Schedule\n\n\n\nAll seminars are held in room S229\n\n\n\n(Click on date to open) \n\n\n\n\n\n\nTUESDAY\, NOVEMBER 19\n\n\n\n\n\n\n\n\nSESSION TITLE\nTIME\n\n\n\n\nSafety on Liveaboards\n9am – 10am\n\n\nFitness to Dive at the Dive Shop: Handling Last-Minute Uncertainty\n10am – 11am\n\n\nHow Feasible is Personalized Decompression?\n11am – 12pm\n\n\nLiving Well with Dive Computers\n12pm – 1pm\n\n\n2025 DAN Instructor\, Instructor Trainer\, and Examiner Update\n1pm – 2pm\n\n\nEverything You Need To Know About DAN\n2pm – 3pm\n\n\n\n\n\n\n\n\n\n\n\n\n\n\n\n\n\nWEDNESDAY\, NOVEMBER 20\n\n\n\n\n\nSESSION TITLE\nTIME\n\n\n\n\nHow Feasible is Personalized Decompression?\n9am – 10am\n\n\nSun Exposure: UV Radiation\n10am – 11am\n\n\nHazards of Rebreather Diving\n11am – 12pm\n\n\nMild DCI\, In-Water Recompression\, and When to Freak Out: Dos and Don’ts\n12pm – 1pm\n\n\nEnvironmentally Friendly Dive Operations\n1pm – 2pm\n\n\nDAN Global Initiatives\n2pm-3pm\n\n\n\n\n\n\n\n\n\n\n\n\n\n\nTHURSDAY\, NOVEMBER 21\n\n\n\n\n\nSESSION TITLE\nTIME\n\n\n\n\nLiving Well with Dive Computers\n9am – 10am\n\n\nDrowning from the Inside: The Ins\, Outs\, and Unknowns of IPE\n10am – 11am\n\n\nSafety on Liveaboards\n11am – 12pm\n\n\nHazards of Rebreather Diving\n12pm – 1pm\n\n\n2025 DAN Instructor\, Instructor Trainer\, and Examiner Update\n1pm – 2pm\n\n\nEverything You Need To Know About DAN\n2pm – 3pm\n\n\n\n\n\n\n\n\n\n\n\n\n\n\n\n\nFRIDAY\, NOVEMBER 22\n\n\n\n\n\nSESSION TITLE\nTIME\n\n\n\n\nFitness to Dive at the Dive Shop: Handling Last-Minute Uncertainty\n9am –10am\n\n\nSun Exposure: UV Radiation\n10am – 11am\n\n\nDrowning from the Inside: The Ins\, Outs\, and Unknowns of IPE\n11am – 12pm\n\n\nMild DCI\, In-Water Recompression\, and When to Freak Out: Dos and Don’ts\n12pm – 1pm\n\n\nEnvironmentally Friendly Dive Operations\n1pm – 2pm\n\n\n\n\n\n\n\n\n\n\n\n\n\n \n\n\n\n\n\n\n\n\n\nSeminar Descriptions\n\n\n\n\nSafety on Liveaboards\n\nBy Francois Burman\, PE MSc \n\n\n\nIn recent years we’ve heard numerous reports of liveaboard calamities\, but there are more that go unnoticed\, except by the unfortunate parties involved. Liveaboard diving is essentially remote diving\, and there are many considerations that must be planned and prepared for. Operators\, trip leaders\, dive professionals\, and divers all have roles to play if we are to reduce accidents\, property losses\, and\, especially\, fatalities. \n\n\n\n\n\n\nFitness to Dive at the Dive Shop: Handling Last-Minute Uncertainty\n\n  \nBy Matias Nochetto\, MD  \n\n\n\nIn this presentation we’ll discuss how to navigate those challenging last-minute fitness-to-dive questions that arise just before it’s time to board the boat. We’ll cover what you can do\, what DAN can do for you\, and what none of us can do. \n\n\n\n\n\n\nHow Feasible Is Personalized Decompression?\n\nBy Frauke Tillmans\, PhD \n\n\n\nIn this presentation we’ll explore the intriguing topic of personalized decompression and its connection to bubble formation and individual physiology. With a focus on understanding the complexities of decompression stress and its relationship to DCS risk\, we will dive into the challenges faced by dive researchers in studying individual physiology\, discuss the limitations of current methods\, explore the potential of new technologies\, and outline why further research is needed. \n\n\n\n\n\n\nLiving Well with Dive Computers\n\nBy Neal Pollock\, PhD \n\n\n\nDive tables offered the standard for controlling dive profiles for the first half of our modern diving history. The shift to relying on dive computers brought convenience\, but also challenges. Most important now is that the wide range of available devices makes it difficult to sufficiently orient divers to them. This presentation will review key functions and options\, some well-established and some fairly new\, to aid in selection and best practices for use.   \n\n\n\n\n\n\n2025 DAN Instructor\, Instructor Trainer\, and Examiner Update\n\nBy JoAnn Perry MSE \n\n\n\nDivers Alert Network Instructors\, Instructor Trainers\, and Examiners are invited to attend this 2025 Update. This session will cover improvements and changes from the past year and provide an outlook on changes coming in the year ahead. \n\n\n\n\n\n\nEverything You Need To Know About DAN \n\nBy Shelli Wright and Angela Williams \n\n\n\nJoin us for an overview of DAN’s membership and insurance programs\, and learn about all the great benefits available to you\, your business\, and your customers. We’ll cover DAN membership benefits\, dive accident coverage\, trip and travel insurance\, and liability coverage\, and there will be time to get answers to all your questions. Learn how dive pros and dive operators can use these programs to better serve their customers\, mitigate risk\, and grow their business. \n\n\n\n\n\n\nSun Exposure: UV Radiation\n\nBy Francois Burman\, PE\, MSc \n\n\n\nDive professionals\, boat crews\, and others who work in the industry are exposed to the sun for long periods\, often daily. Dive clients may be unaware of how long they spend exposed to the sun’s UV radiation. While sunburn offers a reminder to use protection\, the longer-term dangers are not all related to burns. Understanding how UV radiation affects us and using appropriate protection are essential to dive operators and professionals. \n\n\n\n\n\n\nHazards of Rebreather Diving \n\n  \nBy Neal Pollock\, PhD  \n\n\n\nRebreathers provide both physiological and range benefits for divers\, but these advantages come with the costs of increased complexity and related hazards. This presentation will briefly consider the benefits of rebreather diving and will then focus on the hazards that must be managed by rebreather divers.  \n\n\n\n\n\n\nMild DCI\, In-Water Recompression\, and When to Freak Out: Dos and Don’ts\n\nBy Matias Nochetto\, MD \n\n\n\nCould you recognize a mild case of the bends? Could you distinguish a mild case from a serious one? In this presentation we’ll review red flags and put symptoms and risk factors in context to help you make good decisions. \n\n\n\n\n\n\nEnvironmentally Friendly Dive Operations\n\nBy JoAnn Perry MSE \n\n\n\nMuch has been said about the importance of considering our environmental impact in the water\, but have we also been diligent in other areas of our businesses? A look into other aspects of dive operations — out of the water — will generate new ideas about how we can be better stewards of our environment. \n\n\n\n\n\n\nDAN Global Initiatives\n\nBy Nathalie Judkins\, Laura Johnson\, and Mel Cefai \n\n\n\nFrom local-language emergency hotlines in Asia and Latin America to free first aid and oxygen training to dive support staff across Indonesia\, DAN is doing more than ever to improve diver safety around the world. Join us as we highlight initiatives and projects happening now across the U.S.\, Latin America\, the Caribbean\, and Asia-Pacific\, including donation of oxygen equipment\, scholarships\, grants\, free student medical expense coverage\, continuing medical education for hyperbaric doctors\, research\, and more.  \n\n\n\n\n\n\nDrowning from the Inside: The Ins\, Outs\, and Unknowns of IPE\n\nBy Emmanuel Dugrenot\, PhD \n\n\n\nDuring diving\, cardiopulmonary changes can cause immersion pulmonary edema (IPE/IPO) and increase the risk of drowning. This talk presents an updated review of the mechanisms of IPE (known and suspected) that can lead to extravascular water accumulation in the lungs and “drowning from the inside.” \n\n\n\n\n\n\n\n\n\n\n\nPresenter Bios\n\n\n\n\nDAN Speakers\n\n\n\n\n\n\n\n\n\n \n\n\n\nFrancois Burman\, PE\, MSc\n\n\n\nFrancois is the Vice President\, Safety Services\, at DAN. He is responsible for all DAN’s safety and accident-prevention initiatives as well as the recompression chamber network. He has traveled around the world to conduct safety assessments at facilities used to treat injured divers and has written two books: The Risk Assessment Guide for Dive Operators and Professionals and The Risk Assessment Guide for Recompression Facilities. \n\n\n\n\n\n\n \n\n\n\n\n \n\n\n\nMel Cefai\n\n\n\nMel is the Regional Director for Asia-Pacific at DAN World. She learned to dive in Dahab\, Egypt\, and joined the DAN family soon after when an opportunity arose in Australia. She has now worked for DAN for more than 20 years. Mel is passionate about the work DAN does in the diving community and has been privileged over the years to meet many of the members DAN has helped all over the world. \n\n\n\n\n\n\n\n\n\n\n\n\n\n \n\n\n\nEmmanuel Dugrenot\, PhD\n\n\n\nManu is a Senior Researcher at DAN. He has a doctoral degree in hyperbaric physiology and molecular biology\, a publication scope that includes both animal and human studies\, and additional expertise in decompression modeling. He is a scientific diver\, a public safety diver\, and a rebreather and technical diving Instructor Trainer. \n\n\n\n\n\n\n\n\n\n\n\n\n\n \n\n\n\nLaura Johnson\n\n\n\nLaura Johnson is the Regional Director for Latin America and the Caribbean at DAN World. Laura began working at DAN in 1999\, the same year she became a certified diver in her home state of North Carolina.  Her passion for diving in Cozumel\, Mexico\, and her love for Latin American cultures led her to relocate to Cozumel in 2009\, where she has lived ever since.  Laura is a PADI dive pro and a DAN Instructor Trainer. \n\n\n\n\n\n\n\n\n\n\n\n\n\n \n\n\n\nNathalie E. Judkins\n\n\n\nNathalie is the Director of Membership and Insurance Services at DAN. She is a diver and a licensed insurance agent. Nathalie has over 20 years of experience at DAN\, helping divers and travelers navigate the organization’s various insurance products and programs. She works with DAN members\, dive professionals\, and dive operators globally and is fluent in Spanish and French as well as English. \n\n\n\n\n\n\n\n\n\n\n\n\n\n \n\n\n\nMatias Nochetto\, MD\n\n\n\nMatias is the Vice President\, Medical Services\, at DAN\, where he has worked since 2006. He is co-director of the DAN-UHMS continuing medical education program and a faculty member of several national and international diving medicine courses and programs. He became a dive instructor in 1999 during medical school\, which led him to complete a three-year clinical and research fellowship in hyperbaric and diving medicine to combine the two passions. \n\n\n\n\n\n\n\n\n\n\n\n\n\n \n\n\n\nJoAnn Perry\, MSE\n\n\n\nJoAnn is the Safety Services Program Coordinator at DAN. She has bachelor’s and master’s degrees in engineering and brings knowledge of safety in the construction and manufacturing industries to scuba diving. JoAnn has been teaching diving since 2008 and is a diving Instructor Trainer and a DAN Examiner. \n\n\n\n\n\n\n\n\n\n\n\n\n\n \n\n\n\nFrauke Tillmans\, PhD\n\n\n\nFrauke is the Research Director at DAN. She has a PhD in human biology and oversees DAN’s in-house research initiatives in diving physiology\, injury monitoring\, and population health\, as well as the DAN Research Grant Program. An avid diver\, she is DAN’s point of contact for national and global collaborations in diving-related research. Before joining DAN in 2019\, she participated in projects covering a variety of medical and health aspects in recreational and military diving. \n\n\n\n\n\n\n\n\n\n\n\n\n\n \n\n\n\nAngela Williams\n\n\n\nAngela is the Manager of Membership and Personal Insurance at DAN. She manages the DAN Member Services team and has 17 years of experience at the organization. She is a licensed insurance agent who is highly motivated to ensure DAN members are educated about the personal insurance programs and products DAN offers. \n\n\n\n\n\n\n\n\n\n\n\n\n\n \n\n\n\nRochelle “Shelli” Wright\n\n\n\nShelli is the Director of Commercial Insurance at DAN. She has been a licensed insurance agent for over 25 years\, actively working with all lines of insurance products. Shelli is a dive instructor and an avid technical and full cave diver. She combines her knowledge of insurance and her passion for diving to promote risk mitigation and safety education for the diving community. \n\n\n\n\n\n\n\n\nGuest Speaker\n\n\n\n\n\n\n\n\n\n \n\n\n\nNeal W. Pollock\, PhD\n\n\n\nNeal holds a Research Chair in Hyperbaric and Diving Medicine and is an Associate Professor in Kinesiology at Université Laval in Québec\, Canada. He was previously Research Director at DAN and conducted research at Duke University\, both in Durham\, North Carolina. His academic training is in zoology\, exercise physiology\, and environmental physiology. His research interests focus on human health and safety in extreme environments\, including decompression safety for both divers and astronauts. \n\n\n\n\n\n\n\n\n\n \n\n\n\n\n\n \n\n\n\n\n\n\n\n\n\n\n\n \n\n\n\nDAN Member Social Returns\n\n\n\nJoin DAN and your fellow dive industry professionals at the DAN Social at DEMA to enjoy an evening of conversation\, drinks\, and fun. As your dive safety organization\, we raise a glass to all who work tirelessly to promote dive safety. We hope you can join us. \n\n\n\nDATE & TIME \n\n\n\nTuesday\, November 196–9pm \n\n\n\nLOCATION \n\n\n\nBallrooms A and B \n\n\n\nWestgate Las Vegas\, 3000 Paradise Rd\, Las Vegas\, NV \n\n\n\n\n\n\n\n \n\n\n\nShow Notes\n\n\n\n\n\nSchedule A Meeting\n\n\n\nLearn about DAN’s programs by setting up a one-on-one appointment. Submit our online meeting registration form or contact DAN Member Services at DANPros@dan.org  to reserve your time today. \n\n\n\n\n\nInstructor Updates\n\n\n\nDAN Instructors will have several opportunities to get up to date with the latest standards or elevate your teaching credentials; to learn more\, email us at Oxygen@DAN.org.
URL:https://dan.org/event/2024-dema-show/
LOCATION:Las Vegas Convention Center\, 3150 Paradise Road\, Las Vegas\, NV\, 89109\, United States
CATEGORIES:Tradeshow
ATTACH;FMTTYPE=image/jpeg:https://dan.org/wp-content/uploads/2024/06/dan-dema-las-vegas-convention-center-1200x600-1.jpeg
END:VEVENT
BEGIN:VEVENT
DTSTART;TZID=America/Los_Angeles:20241119T180000
DTEND;TZID=America/Los_Angeles:20241119T210000
DTSTAMP:20260423T223905
CREATED:20230908T153259Z
LAST-MODIFIED:20240920T141042Z
UID:10000005-1732039200-1732050000@dan.org
SUMMARY:DAN Member Social at DEMA
DESCRIPTION:Join DAN and fellow dive industry professionals at the DAN Member Social in ballrooms A and B of the Westgate Las Vegas\, just a few minutes’ walk from the exhibition floor at the Las Vegas Convention Center. Enjoy an evening of conversation\, drinks\, and food as we raise a glass to all who work tirelessly to promote dive safety. Admission is free for DAN members and DEMA Show attendees with a show badge. \nRemember to add this event to your calendar. We hope to see you there!
URL:https://dan.org/event/dan-member-social-at-dema/
LOCATION:Westgate Las Vegas\, 3000 Paradise Rd\, Las Vegas\, NV\, 89109\, United States
CATEGORIES:Tradeshow
ATTACH;FMTTYPE=image/webp:https://dan.org/wp-content/uploads/2024/09/Event-Header-1600x800-1.webp
ORGANIZER;CN="Divers Alert Network":MAILTO:marketing@dan.org
END:VEVENT
END:VCALENDAR