BEGIN:VCALENDAR
VERSION:2.0
PRODID:-//Divers Alert Network - ECPv6.15.20//NONSGML v1.0//EN
CALSCALE:GREGORIAN
METHOD:PUBLISH
X-WR-CALNAME:Divers Alert Network
X-ORIGINAL-URL:https://dan.org
X-WR-CALDESC:Events for Divers Alert Network
REFRESH-INTERVAL;VALUE=DURATION:PT1H
X-Robots-Tag:noindex
X-PUBLISHED-TTL:PT1H
BEGIN:VTIMEZONE
TZID:America/New_York
BEGIN:DAYLIGHT
TZOFFSETFROM:-0500
TZOFFSETTO:-0400
TZNAME:EDT
DTSTART:20240310T070000
END:DAYLIGHT
BEGIN:STANDARD
TZOFFSETFROM:-0400
TZOFFSETTO:-0500
TZNAME:EST
DTSTART:20241103T060000
END:STANDARD
BEGIN:DAYLIGHT
TZOFFSETFROM:-0500
TZOFFSETTO:-0400
TZNAME:EDT
DTSTART:20250309T070000
END:DAYLIGHT
BEGIN:STANDARD
TZOFFSETFROM:-0400
TZOFFSETTO:-0500
TZNAME:EST
DTSTART:20251102T060000
END:STANDARD
BEGIN:DAYLIGHT
TZOFFSETFROM:-0500
TZOFFSETTO:-0400
TZNAME:EDT
DTSTART:20260308T070000
END:DAYLIGHT
BEGIN:STANDARD
TZOFFSETFROM:-0400
TZOFFSETTO:-0500
TZNAME:EST
DTSTART:20261101T060000
END:STANDARD
END:VTIMEZONE
BEGIN:VEVENT
DTSTART;VALUE=DATE:20250315
DTEND;VALUE=DATE:20250317
DTSTAMP:20260423T155845
CREATED:20230912T161211Z
LAST-MODIFIED:20240401T210659Z
UID:10000010-1741996800-1742169599@dan.org
SUMMARY:2025 Boston Sea Rovers Show
DESCRIPTION:The Boston Sea Rover is a 501(c)(3) all-volunteer non-profit organization dedicated to raising awareness of the underwater world. Started in 1954 as a means of educating the public on how to safely use scuba\, this yearly show has evolved into a world-renowned three-day event that draws attendees\, presenters\, and exhibitors from all over the world. \nThe show is designed to entertain and educate the public on topics of exploration\, filmmaking\, scientific discoveries\, scuba diving\, and more. The show consists of many facets designed for both the diving and non-diving public. Find more details on the Film Festival\, Exhibit Hall\, Daytime Presentations\, Careers in Ocean and Marine Sciences (COMS)\, Workshops\, Kids Activities\, Art/Artifact Exhibit\, and more. \nThe venue\, DoubleTree by Hilton- Boston North Shore\, is located less than 20 miles from downtown Boston\, features fantastic amenities for exhibitors\, attendees\, and your family members.
URL:https://dan.org/event/boston-sea-rovers-show/
LOCATION:DoubleTree by Hilton- Boston North Shore\, 50 Ferncroft Road\, Danvers\, MA\, 01923\, United States
CATEGORIES:Tradeshow
ATTACH;FMTTYPE=image/jpeg:https://dan.org/wp-content/uploads/2023/09/boston-ma-boston-sea-rovers-show.jpg
END:VEVENT
END:VCALENDAR