BEGIN:VCALENDAR
VERSION:2.0
PRODID:-//Divers Alert Network - ECPv6.15.20//NONSGML v1.0//EN
CALSCALE:GREGORIAN
METHOD:PUBLISH
X-ORIGINAL-URL:https://dan.org
X-WR-CALDESC:Events for Divers Alert Network
REFRESH-INTERVAL;VALUE=DURATION:PT1H
X-Robots-Tag:noindex
X-PUBLISHED-TTL:PT1H
BEGIN:VTIMEZONE
TZID:America/New_York
BEGIN:DAYLIGHT
TZOFFSETFROM:-0500
TZOFFSETTO:-0400
TZNAME:EDT
DTSTART:20240310T070000
END:DAYLIGHT
BEGIN:STANDARD
TZOFFSETFROM:-0400
TZOFFSETTO:-0500
TZNAME:EST
DTSTART:20241103T060000
END:STANDARD
BEGIN:DAYLIGHT
TZOFFSETFROM:-0500
TZOFFSETTO:-0400
TZNAME:EDT
DTSTART:20250309T070000
END:DAYLIGHT
BEGIN:STANDARD
TZOFFSETFROM:-0400
TZOFFSETTO:-0500
TZNAME:EST
DTSTART:20251102T060000
END:STANDARD
BEGIN:DAYLIGHT
TZOFFSETFROM:-0500
TZOFFSETTO:-0400
TZNAME:EDT
DTSTART:20260308T070000
END:DAYLIGHT
BEGIN:STANDARD
TZOFFSETFROM:-0400
TZOFFSETTO:-0500
TZNAME:EST
DTSTART:20261101T060000
END:STANDARD
END:VTIMEZONE
BEGIN:VEVENT
DTSTART;VALUE=DATE:20250328
DTEND;VALUE=DATE:20250331
DTSTAMP:20260423T155544
CREATED:20240911T220103Z
LAST-MODIFIED:20250121T204612Z
UID:10000034-1743120000-1743379199@dan.org
SUMMARY:Beneath The Sea 2025
DESCRIPTION:Beneath the Sea’s Consumer Ocean Adventure is an exposition celebrating scuba diving\, travel\, and underwater exploration. Beneath the Sea 2025 will have almost 200 exhibitors from all corners of the world\, 50 plus seminars and workshops presented by specialists and experts in their field\, exotic destinations\, social events\, and leaders from every segment of the dive industry\, to entertain\, inform and excite the experienced diver\, new diver\, and non-diver equally. \nDAN will exhibit at booth # 501-503-600-602. To learn more and register to attend\, visit beneaththesea.us.
URL:https://dan.org/event/beneath-the-sea-2025/
LOCATION:Meadowlands Exposition Center\, 355 Plaza Drive\, Secaucus\, NJ\, 07094\, United States
CATEGORIES:Tradeshow
ATTACH;FMTTYPE=image/jpeg:https://dan.org/wp-content/uploads/2023/09/new-jersey-bts-show.jpg
END:VEVENT
END:VCALENDAR