BEGIN:VCALENDAR
VERSION:2.0
PRODID:-//Divers Alert Network - ECPv6.15.20//NONSGML v1.0//EN
CALSCALE:GREGORIAN
METHOD:PUBLISH
X-WR-CALNAME:Divers Alert Network
X-ORIGINAL-URL:https://dan.org
X-WR-CALDESC:Events for Divers Alert Network
REFRESH-INTERVAL;VALUE=DURATION:PT1H
X-Robots-Tag:noindex
X-PUBLISHED-TTL:PT1H
BEGIN:VTIMEZONE
TZID:America/New_York
BEGIN:DAYLIGHT
TZOFFSETFROM:-0500
TZOFFSETTO:-0400
TZNAME:EDT
DTSTART:20230312T070000
END:DAYLIGHT
BEGIN:STANDARD
TZOFFSETFROM:-0400
TZOFFSETTO:-0500
TZNAME:EST
DTSTART:20231105T060000
END:STANDARD
BEGIN:DAYLIGHT
TZOFFSETFROM:-0500
TZOFFSETTO:-0400
TZNAME:EDT
DTSTART:20240310T070000
END:DAYLIGHT
BEGIN:STANDARD
TZOFFSETFROM:-0400
TZOFFSETTO:-0500
TZNAME:EST
DTSTART:20241103T060000
END:STANDARD
BEGIN:DAYLIGHT
TZOFFSETFROM:-0500
TZOFFSETTO:-0400
TZNAME:EDT
DTSTART:20250309T070000
END:DAYLIGHT
BEGIN:STANDARD
TZOFFSETFROM:-0400
TZOFFSETTO:-0500
TZNAME:EST
DTSTART:20251102T060000
END:STANDARD
END:VTIMEZONE
BEGIN:VEVENT
DTSTART;VALUE=DATE:20240607
DTEND;VALUE=DATE:20240610
DTSTAMP:20260422T175610
CREATED:20240422T174121Z
LAST-MODIFIED:20240422T174121Z
UID:10000028-1717718400-1717977599@dan.org
SUMMARY:Malaysia International Dive Expo (MIDE)
DESCRIPTION:The Malaysia International Dive Expo (MIDE) is an annual event promoting the dive community and businesses in Malaysia. Established in 2006\, MIDE is a one-stop-hub for all things diving\, including equipment\, courses\, travel\, conservation\, dive education as well as boating and other water sports. \nShow Hours 10:00 – 19:00
URL:https://dan.org/event/malaysia-international-dive-expo-mide/
LOCATION:Malaysia International Trade & Exhibition Centre (MITEC) Level 1\, Hall 2\, Jalan Dutamas 2\, Kuala Lumpur\, Malaysia
ATTACH;FMTTYPE=image/png:https://dan.org/wp-content/uploads/2024/04/Kuala-Lumpur-1127710406-MIDE.png
END:VEVENT
BEGIN:VEVENT
DTSTART;VALUE=DATE:20240531
DTEND;VALUE=DATE:20240603
DTSTAMP:20260422T175610
CREATED:20240329T182134Z
LAST-MODIFIED:20240329T194509Z
UID:10000020-1717113600-1717372799@dan.org
SUMMARY:OWUSS 50th Anniversary Celebration
DESCRIPTION:The Our World-Underwater Scholarship Society (OWUSS) is commemorating its 50th anniversary with a celebration from May 31 to June 2\, 2024\, in New York City. The celebration is set to include exciting events and opportunities to connect with Society members from around the globe: \nFriday\, May 31 \n\n8:00 AM – 12:00 PM: Alumni Symposium (The Asia Society\, 725 Park Avenue\, NYC)\n6:00 PM: Friends and Family Reception and Buffet Dinner (The New York Yacht Club\, 37 W. 44th Street\, NYC)\n\nSaturday\, June 1 \n\n9:00 AM – 1:00 PM: Saturday Symposium (The Times Center\, 242 West 41st Street\, NYC)\n5:30 – 10:00 PM: 50th Anniversary Celebration and Awards Ceremony (The Times Center)\n10:30 PM: After Party\n\nSunday\, June 2 \n\n10:00 AM: Coffee in the Park (Greenacre Park\, 217 East 51st Street\, NYC)\nEvening: OWUSS Story Collider (The Theater at St. Johns\, 184 East 76th Street\, NYC)
URL:https://dan.org/event/owuss-50th-anniversary-celebration/
LOCATION:NYC (Multiple Venues)\, 725 Park Avenue\, NYC\, NY\, 10021\, United States
CATEGORIES:DAN Sponsored
ATTACH;FMTTYPE=image/jpeg:https://dan.org/wp-content/uploads/2024/03/NYC-1200x600-1.jpg
END:VEVENT
BEGIN:VEVENT
DTSTART;VALUE=DATE:20240531
DTEND;VALUE=DATE:20240602
DTSTAMP:20260422T175610
CREATED:20240328T190617Z
LAST-MODIFIED:20240401T205514Z
UID:10000021-1717113600-1717286399@dan.org
SUMMARY:2024 NSS-CDS International Cave Diving Conference
DESCRIPTION:The 2024 NSS-CDS International Cave Diving Conference will bring together cave divers from across the globe. This occasion includes the following events: \nFriday\, May 31 \n\n6:00 PM – 10:00 PM: Social at Robert B. Harkness Armory\n\nSaturday\, June 1 \n\n8:00 AM – 5:00 PM: Conference and NSS-CDS Annual Membership Meeting at Robert B. Harkness Armory. (Breakfast and lunch will be served.)\n\nThere is also a grand prize raffle for an SF Tech Drysuit.
URL:https://dan.org/event/2024-nss-cds-international-cave-diving-conference/
LOCATION:Robert B. Harkness Armory\, 490 NW Lake Jeffrey Road\, Lake City\, FL\, 32055\, United States
ATTACH;FMTTYPE=image/png:https://dan.org/wp-content/uploads/2024/03/cave-diver-1200x600-1.png
END:VEVENT
BEGIN:VEVENT
DTSTART;VALUE=DATE:20240530
DTEND;VALUE=DATE:20240603
DTSTAMP:20260422T175610
CREATED:20240422T172717Z
LAST-MODIFIED:20240422T172852Z
UID:10000027-1717027200-1717372799@dan.org
SUMMARY:Deep and Extreme Indonesia (DXI)
DESCRIPTION:With over 120 exhibitors showcasing the latest products and services from the diving\, water sports\, extreme sports\, and outdoor adventure industries\, this event promises an adrenaline-pumping immersion into the world of daring feats\, aquatic exploration\, and adventurous pursuits\, with networking opportunities with other enthusiasts and professionals.
URL:https://dan.org/event/deep-and-extreme-indonesia-dxi/
LOCATION:Jakarta Convention Center\, Jl. Jend. Gatot Subroto\, Jakarta\, Indonesia
ATTACH;FMTTYPE=image/png:https://dan.org/wp-content/uploads/2024/04/Jakarta-DAN-614325896-dxi.png
END:VEVENT
BEGIN:VEVENT
DTSTART;VALUE=DATE:20240516
DTEND;VALUE=DATE:20240520
DTSTAMP:20260422T175610
CREATED:20240422T171001Z
LAST-MODIFIED:20240422T171001Z
UID:10000026-1715817600-1716163199@dan.org
SUMMARY:Thailand Dive Expo (TDEX)
DESCRIPTION:The Thailand Dive Expo (TDEX) is the hub of diving tourism in Thailand. This the 20th anniversary of the show\, celebrating the growing diving industry in the country. \nDAN World Booth #A16\, A21\nShow Hours  11:00 – 20:00
URL:https://dan.org/event/thailand-dive-expo-tdex/
LOCATION:Queen Sirikit National Convention Center (QSNCC)\, Rachadapisek Road\, Bangcock\, Thailand
ATTACH;FMTTYPE=image/png:https://dan.org/wp-content/uploads/2024/04/Bangcock-DAN-477705824-TDEX.png
END:VEVENT
BEGIN:VEVENT
DTSTART;VALUE=DATE:20240504
DTEND;VALUE=DATE:20240512
DTSTAMP:20260422T175610
CREATED:20240321T165347Z
LAST-MODIFIED:20240618T185435Z
UID:10000017-1714780800-1715471999@dan.org
SUMMARY:DAN | UHMS Spring 2024 Diving & Hyperbaric Medicine CME – SOLD OUT
DESCRIPTION:Continuing Medical Education (CME)\n\n\n\nDAN’s continuing medical education (CME) staff strives to assist physicians and other health care providers in obtaining new information that will lead to better quality and availability of care to the diving community worldwide. The internationally recognized resources of DAN and its affiliation with numerous institutions serving hyperbaric medicine provide cutting-edge medical and research information. \n\n\n\n \n\n\n\n\n\n \n\n\n\nDiving and Hyperbaric Medicine Courses\n\n\n\nDAN has hosted the DAN Diving and Hyperbaric Medicine course since 1983. The accredited courses usually include lectures\, case presentations\, support materials\, and both formal and informal discussion sessions with faculty. \n\n\n\nJointly provided by Divers Alert Network and Undersea and Hyperbaric Medical Society\, the course is designed primarily for physicians. However\, emergency medical personnel\, paramedics\, nurses and professionals\, as well as instructors\, divemasters and nonmedical\, diving-related personnel with an interest in dive medicine may also find the course valuable. \n\n\n\nThe program focuses on diving and hyperbaric medicine with emphasis on the latest scientific literature in the field. The course features lectures\, case presentations and support materials as well as both formal and informal discussion sessions with faculty. \n\n\n\nThrough lectures\, case presentations\, printed support materials\, and both formal and informal discussion sessions with the faculty\, it is anticipated that attendees completing this course will be able to discuss and clinically apply facts relevant to scheduled topics. Upon completion\, course participants should also benefit from a broader understanding of current issues and increased familiarity with recent\, relevant scientific literature in diving and hyperbaric medicine. Learning will be reinforced by case reports from the DAN Medical Services Call Center (MSCC) Quality Assurance archives\, examples from recent and ongoing diving research\, and from the personal experience of the faculty. \n\n\n\nAt the end of this course attendees should be able to discuss and clinically apply facts relevant to: \n\n\n\n\n\n\nMedical and physical fitness to dive\n\n\n\nDiving safety issues and current research\n\n\n\nHyperbaric medicine: applications\, protocols\, and mechanisms\n\n\n\n\n\n\n\nDecompression physiology and pathophysiology\n\n\n\nDiving injuries and their management\n\n\n\nControversies in diving medicine\n\n\n\n\n\n\n\n\n \n\n\n\nFaculty\n\n\n\n\n\n(Click to view presenters)+\n\n\n\n\nJames Holm\, MD\, FUHMStaff Physician Center for Hyperbaric MedicineVirginia Mason Franciscan Health\, Seattle\, WA \n\n\n\n\n\n\nFor information about future courses\, email us at cme@dan.org\n \n\n\n\n\n\n \n\n\n\nCME Statements\n\n\n\n\n\n(Click to view)+\n\n\n\n\nAccreditation Statement: This activity has been planned and implemented in accordance with the accreditation requirements and policies of the Accreditation Council for Continuing Medical Education (ACCME) through the joint providership of the Undersea and Hyperbaric Medical Society and Divers Alert Network. The undersea and Hyperbaric Medical Society is accredited by the ACCME to provide continuing medical education for physicians. \n\n\n\n\n\n\n \n\n\n\nExcluded\n\n\n\n\n(Click to open list)\n\n\nCustomer airfare\n\n\n\nTrip insurance (highly recommended)\n\n\n\nCourse tuition of $800/attendee  \n\n\n\nDive gratuities – suggested $120/diver  \n\n\n\nDive medical insurance (required for all divers)\n\n\n\nCustoms fees  \n\n\n\nLand excursions  \n\n\n\nUnforeseen damages\, airline\, and travel expenses \n\n\n\n\n\n\n \n\n\n\nSpecial Room Pricing\n\n\n\n\n\n\n\n\n\nDeluxe Bay \n\n\n\n\n\n\n\n\n\nDeluxe \n\n\n\n\n\n\n  \n \n\n\n\n\n \n\n\n\nFor a full list of rooms\, features and accommodations\, go to: https://www.occidentalgrandpapagayo.com/accommodations.asp.  Please note:  If you are interested in a room type not listed above\, please contact cme@dan.org for special group pricing.
URL:https://dan.org/event/dan-uhms-spring-2024-diving-hyperbaric-medicine-cme/
LOCATION:Occidental Grand Papagayo – All Inclusive ADULTS ONLY Resort\, 255 Blvd. Playa Hermosa 800 metros al norte 48-5000\, Guanacaste\, Golfo Guanacaste Province\, 50503\, Costa Rica
CATEGORIES:Medical Conference
ATTACH;FMTTYPE=image/jpeg:https://dan.org/wp-content/uploads/2024/03/Occidental-Grand-Papagayo.jpg
ORGANIZER;CN="Lana Sorrell":MAILTO:cme@dan.org
END:VEVENT
BEGIN:VEVENT
DTSTART;VALUE=DATE:20240501
DTEND;VALUE=DATE:20240502
DTSTAMP:20260422T175610
CREATED:20240408T184847Z
LAST-MODIFIED:20240411T164001Z
UID:10000023-1714521600-1714607999@dan.org
SUMMARY:USC Catalina Hyperbaric Chamber Day
DESCRIPTION:During the past 50 years the USC Catalina Hyperbaric Chamber has been dedicated to the treatment of diving accidents on a 24/7/365 basis. The annual Chamber Day contributions from divers\, clubs\, shops\, manufacturers\, organizations\, publications and dive boat operators are essential\, supporting transportation of Chamber Volunteers to and from the mainland\, treatment gases\, equipment purchases\, maintenance\, and repairs. \nHere’s how you get involved (there’s more detailed info on the pages for each specific aspect of the event): \nCHAMBER DAY – Seven boats will be ready to show you underwater SoCal on May 1. In alphabetical order they are: Giant Stride\, Liberty (free diving only)\, Pacific Moon\, Pacific Star\, SoCal Diver\, Sundiver\, and Sundiver Express. Collectively those boats will have 119 spots available this year. \nTHE FLYING DUTCHMAN – The original virtual (fake) dive boat\, a perennial favorite of many. \nTHE CHAMBER CHALLENGE – Direct donations which can also be in someone’s honor/memory. Special recognition for those contributing $1\,000\, $5\,000\, $10\,000\, or $15\,000. \nCHAMBER EVENING (IN-PERSON PLUS A VIRTUAL OPTION) – Held in the Great Hall at Aquarium of the Pacific in Long Beach\, this evening event is limited to 350 attendees (35 tables of 10). All of the tables are sponsored/hosted by various shops\, clubs\, or boats. \nRegister through their Online Sign-Up Form. If you have questions\, please contact Chamber Day HQ at (310) 652-4990.
URL:https://dan.org/event/usc-catalina-hyperbaric-chamber-day/
LOCATION:USC Catalina Hyperbaric Chamber\, 1 Big Fisherman Cove\, Avalon\, CA\, 90704\, United States
ATTACH;FMTTYPE=image/png:https://dan.org/wp-content/uploads/2024/04/iStock-1474770987.jpg.png
END:VEVENT
END:VCALENDAR